BEGIN:VCALENDAR
VERSION:2.0
PRODID:Events Booking
BEGIN:VEVENT
UID:69e9bcbb0b6cb
SUMMARY:Wet Carved Concrete Workshop with Elder Jones
DESCRIPTION:This three-day workshop with Elder Jones of Sandpudding Studio 
 guides participants through the complete process of creating a personalize
 d concrete object\, such as a planter or small sculpture. Through hands-on
  instruction\, participants will learn material preparation\, casting\, we
 t carving\, and finishing techniques. All tools and materials are provided
 .
LOCATION:323 Franklin Road\, Highlands\, NC 28741
DTSTART:20260728T140000Z
DTEND:20260730T200000Z
DTSTAMP:20251211T193958Z
ORGANIZER;CN=The Bascom:MAILTO:info@thebascom.org
GEO:35.05781;-83.204179
X-APPLE-STRUCTURED-LOCATION;VALUE=URI;X-ADDRESS=323 Franklin Road\, Highlan
 ds\, NC 28741;X-APPLE-RADIUS=72;X-TITLE=The Bascom: Adult Studio B (Trail 
 Level):35.05781;-83.204179
END:VEVENT
END:VCALENDAR