BEGIN:VCALENDAR
VERSION:2.0
PRODID:Events Booking
BEGIN:VEVENT
UID:69e9bd0f5b0c1
SUMMARY:Resident Artist Series: Glazing Class   
DESCRIPTION:This class is for students who have bisque pieces ready to glaz
 e.&nbsp\; These pieces could have been made in Open Studio\, the Resident 
 Artist Series\, Workshops\, etc.&nbsp\;&nbsp\;
LOCATION:323 Franklin Road\, Highlands\, NC 28741 
DTSTART:20261113T150000Z
DTEND:20261113T170000Z
DTSTAMP:20251222T234120Z
ORGANIZER;CN=The Bascom:MAILTO:info@thebascom.org
GEO:35.05781;-83.204179
X-APPLE-STRUCTURED-LOCATION;VALUE=URI;X-ADDRESS=323 Franklin Road\, Highlan
 ds\, NC 28741 ;X-APPLE-RADIUS=72;X-TITLE=Dave Drake Barn:35.05781;-83.2041
 79
END:VEVENT
END:VCALENDAR