BEGIN:VCALENDAR
VERSION:2.0
PRODID:Events Booking
BEGIN:VEVENT
UID:69e9bc79129f3
SUMMARY:Into the Woods
DESCRIPTION:Step into the world of imaginative clay sculpture with artists 
 Christine and Taylor in this four day workshop devoted to creating woodlan
 d beings\, with special attention to owls and hares. Through demonstration
 s and guided studio time\, participants will explore approaches that foreg
 round gesture\, character\, and narrative\, learning how subtle shifts in 
 posture\, proportion\, and expression can transform form into story.
LOCATION:323 Franklin Road\, Highlands\, NC 28741 
DTSTART:20261116T140000Z
DTEND:20261119T210000Z
DTSTAMP:20251229T195243Z
ORGANIZER;CN=The Bascom:MAILTO:info@thebascom.org
GEO:35.05781;-83.204179
X-APPLE-STRUCTURED-LOCATION;VALUE=URI;X-ADDRESS=323 Franklin Road\, Highlan
 ds\, NC 28741 ;X-APPLE-RADIUS=72;X-TITLE=Dave Drake Barn:35.05781;-83.2041
 79
END:VEVENT
END:VCALENDAR